BEGIN:VCALENDAR
VERSION:2.0
PRODID:icalendar-ruby
CALSCALE:GREGORIAN
METHOD:PUBLISH
BEGIN:VEVENT
DTSTAMP:20260420T062901Z
UID:http://www.howellpg.com.au/property?property_id=1737427
DTSTART:20260605T103000
DTEND:20260605T110000
CLASS:PUBLIC
CREATED:20260302T120126
DESCRIPTION: 
LAST-MODIFIED:20260420T100816
LOCATION:12 Shepperds Lane\, ELLIOTT TAS 7325\, Australia
SUMMARY:12 Shepperds Lane\,  Auction
URL;VALUE=URI:http://www.howellpg.com.au/property?property_id=1737427
END:VEVENT
END:VCALENDAR
